BEGIN:VCALENDAR
VERSION:2.0
PRODID:-//Obst- und Gartenbauverein G&auml;rtringen e.V. - ECPv6.15.20//NONSGML v1.0//EN
CALSCALE:GREGORIAN
METHOD:PUBLISH
X-WR-CALNAME:Obst- und Gartenbauverein G&auml;rtringen e.V.
X-ORIGINAL-URL:https://ogv-gaertringen.de
X-WR-CALDESC:Veranstaltungen für Obst- und Gartenbauverein G&auml;rtringen e.V.
REFRESH-INTERVAL;VALUE=DURATION:PT1H
X-Robots-Tag:noindex
X-PUBLISHED-TTL:PT1H
BEGIN:VTIMEZONE
TZID:UTC
BEGIN:STANDARD
TZOFFSETFROM:+0000
TZOFFSETTO:+0000
TZNAME:UTC
DTSTART:20230101T000000
END:STANDARD
END:VTIMEZONE
BEGIN:VEVENT
DTSTART;VALUE=DATE:20240202
DTEND;VALUE=DATE:20240203
DTSTAMP:20260423T065249
CREATED:20240112T090737Z
LAST-MODIFIED:20240112T090737Z
UID:367-1706832000-1706918399@ogv-gaertringen.de
SUMMARY:Fachwarte-Stammtisch
DESCRIPTION:
URL:https://ogv-gaertringen.de/veranstaltungen/fachwarte-stammtisch/
END:VEVENT
END:VCALENDAR