BEGIN:VCALENDAR
VERSION:2.0
PRODID:-//Obst- und Gartenbauverein G&auml;rtringen e.V. - ECPv6.15.20//NONSGML v1.0//EN
CALSCALE:GREGORIAN
METHOD:PUBLISH
X-WR-CALNAME:Obst- und Gartenbauverein G&auml;rtringen e.V.
X-ORIGINAL-URL:https://ogv-gaertringen.de
X-WR-CALDESC:Veranstaltungen für Obst- und Gartenbauverein G&auml;rtringen e.V.
REFRESH-INTERVAL;VALUE=DURATION:PT1H
X-Robots-Tag:noindex
X-PUBLISHED-TTL:PT1H
BEGIN:VTIMEZONE
TZID:UTC
BEGIN:STANDARD
TZOFFSETFROM:+0000
TZOFFSETTO:+0000
TZNAME:UTC
DTSTART:20240101T000000
END:STANDARD
END:VTIMEZONE
BEGIN:VEVENT
DTSTART;TZID=UTC:20250329T093000
DTEND;TZID=UTC:20250329T160000
DTSTAMP:20260422T111755
CREATED:20241209T063754Z
LAST-MODIFIED:20250317T160558Z
UID:676-1743240600-1743264000@ogv-gaertringen.de
SUMMARY:Schnittkurs Hausgarten Theorie und Praxis
DESCRIPTION:Sie sind nicht zufrieden mit Ihrem Garten;\ndie Zierpflanzen blühen nicht wie gewünscht;\nDie Beeren bringen keinen Ertrag ? \nDer OGV bietet allen Hobbygärtnern und -gärtnerinnen die Möglichkeit\, ihre Kenntnisse bei Obst\, Ziersträuchern und Stauden zu vertiefen. \n  \nAm  Samstag\, 29. März um 09:30 Uhr \n  \nbeginnen wir mit einem Theorieteil im Saal des Samariterstifts Gärtringen. Nachmittags folgt der praktische Teil im Garten. Bitte Astscheren mitbringen.
URL:https://ogv-gaertringen.de/veranstaltungen/schnittkurs-hausgarten-theorie-und-praxis-2/
LOCATION:Samariterstift Gärtringen\, Kirchstraße 17\, Gärtringen\, 71116\, Deutschland
END:VEVENT
END:VCALENDAR