BEGIN:VCALENDAR
VERSION:2.0
PRODID:-//Obst- und Gartenbauverein G&auml;rtringen e.V. - ECPv6.15.20//NONSGML v1.0//EN
CALSCALE:GREGORIAN
METHOD:PUBLISH
X-ORIGINAL-URL:https://ogv-gaertringen.de
X-WR-CALDESC:Veranstaltungen für Obst- und Gartenbauverein G&auml;rtringen e.V.
REFRESH-INTERVAL;VALUE=DURATION:PT1H
X-Robots-Tag:noindex
X-PUBLISHED-TTL:PT1H
BEGIN:VTIMEZONE
TZID:UTC
BEGIN:STANDARD
TZOFFSETFROM:+0000
TZOFFSETTO:+0000
TZNAME:UTC
DTSTART:20240101T000000
END:STANDARD
END:VTIMEZONE
BEGIN:VEVENT
DTSTART;TZID=UTC:20250601T100000
DTEND;TZID=UTC:20250601T100000
DTSTAMP:20260422T063550
CREATED:20250504T043125Z
LAST-MODIFIED:20250504T043216Z
UID:726-1748772000-1748772000@ogv-gaertringen.de
SUMMARY:Mähen mit der Sense
DESCRIPTION:Mähen mit der Sense\n… ein Hexenwerk? \nDas Mähen mit der Sense hat viele Vorteile\, es will aber gelernt sein. Der OGV bietet einen Sensenkurs an\, bei dem auch die Praxis und das Dengeln der Sense nicht zu kurz kommen. Am Sonntag\, 1. Juni um 10:00 Uhr auf der Wildobstwiese beim Waldkindergarten Gärtringen. Wenn vorhanden\, eigene Sensen mitbringen\, es können aber auch Sensen ausgeliehen werden. \nDie Teilnahmegebühr beträgt 40€ für Nichtmitglieder und 35€ für Mitglieder des OGV Gärtringen. Es gibt ein Mindestalter von 16 Jahren. \nAnmeldung bitte bis 11.Mai unter:\nmail@ogv-gaertringen.de\nbzw. bei W. Reznicek 07034-2772708
URL:https://ogv-gaertringen.de/veranstaltungen/maehen-mit-der-sense/
LOCATION:Wildobstwiese\, Rößeweg 100\, Gärtringen\, 71116\, Deutschland
END:VEVENT
END:VCALENDAR