BEGIN:VCALENDAR
VERSION:2.0
PRODID:-//Obst- und Gartenbauverein G&auml;rtringen e.V. - ECPv6.15.20//NONSGML v1.0//EN
CALSCALE:GREGORIAN
METHOD:PUBLISH
X-WR-CALNAME:Obst- und Gartenbauverein G&auml;rtringen e.V.
X-ORIGINAL-URL:https://ogv-gaertringen.de
X-WR-CALDESC:Veranstaltungen für Obst- und Gartenbauverein G&auml;rtringen e.V.
REFRESH-INTERVAL;VALUE=DURATION:PT1H
X-Robots-Tag:noindex
X-PUBLISHED-TTL:PT1H
BEGIN:VTIMEZONE
TZID:UTC
BEGIN:STANDARD
TZOFFSETFROM:+0000
TZOFFSETTO:+0000
TZNAME:UTC
DTSTART:20230101T000000
END:STANDARD
END:VTIMEZONE
BEGIN:VEVENT
DTSTART;TZID=UTC:20260321T093000
DTEND;TZID=UTC:20260321T120000
DTSTAMP:20260421T151211
CREATED:20260304T074023Z
LAST-MODIFIED:20260304T074023Z
UID:779-1774085400-1774094400@ogv-gaertringen.de
SUMMARY:Schnittkurs Hausgarten\, Zierpflanzen und Beerenobs
DESCRIPTION:Sie sind nicht zufrieden mit Ihrem Garten;\ndie Sträucher blühen nicht wie gewünscht;\nDie Beeren bringen keinen Ertrag?\nDer OGV bietet allen Hobbygärtnern und -gärtnerinnen\ndie Möglichkeit\, ihre Kenntnisse bei Obst\,\nZiersträuchern und Stauden zu vertiefen. \nAm Samstag\, 21. März um 09:30 Uhr\nbeginnen wir mit einem Theorieteil im Saal des\nSamariterstifts Gärtringen. Nachmittags folgt der\npraktische Teil im Garten. Bitte Astscheren mitbringen.
URL:https://ogv-gaertringen.de/veranstaltungen/schnittkurs-hausgarten-zierpflanzen-und-beerenobs/
LOCATION:Samariterstift Gärtringen\, Kirchstraße 17\, Gärtringen\, 71116\, Deutschland
END:VEVENT
BEGIN:VEVENT
DTSTART;TZID=UTC:20260314T090000
DTEND;TZID=UTC:20260314T130000
DTSTAMP:20260421T151211
CREATED:20260304T072700Z
LAST-MODIFIED:20260304T072700Z
UID:776-1773478800-1773493200@ogv-gaertringen.de
SUMMARY:Schnittkurs Altbaumsanierung
DESCRIPTION:Die Bäume vom Opa übernommen –\naber seit 15 Jahren nicht geschnitten.\nWo fange ich da nur an… \n  \nSchnittkurs Altbaumsanierung \n  \nWir nehmen uns einen alten aber gesunden Baum vor und\nbringen die Krone wieder in eine sinnvolle und\nzukunftsfähige Form. Teil 1 von 2 (2. Teil in nächsten Jahr) \n  \nWir treffen uns am\n14. März 2026 um 9:00 bis ca. 13:00\nim Gewann Dachsloch (gegenüber der Obstanlage\nrechts der Deckenpfronner Straße)\n(Geokoordinaten 48.646515\, 8.869463)
URL:https://ogv-gaertringen.de/veranstaltungen/schnittkurs-altbaumsanierung/
LOCATION:Dachsloch\, 48.646515\, 8.869463
END:VEVENT
BEGIN:VEVENT
DTSTART;TZID=UTC:20260307T090000
DTEND;TZID=UTC:20260307T120000
DTSTAMP:20260421T151211
CREATED:20260304T074254Z
LAST-MODIFIED:20260304T074254Z
UID:781-1772874000-1772884800@ogv-gaertringen.de
SUMMARY:Bäume schneiden auf dem Hetzer
DESCRIPTION:Am Samstag\, 7. Märt treffen wir uns um 9:00 Uhr auf dem Hetzer (zwischen Friedenslinde und CVJM-Heim) um dort die Bäume zu schneiden. Da hoffe ich auch einige Unterstützer damit wir die Wiese weiterhin in gutem Zustand halten können. Bis zum Mittagessen sind wir voraussichtlich fertig.
URL:https://ogv-gaertringen.de/veranstaltungen/baeume-schneiden-auf-dem-hetzer/
END:VEVENT
BEGIN:VEVENT
DTSTART;TZID=UTC:20251122T100000
DTEND;TZID=UTC:20251122T120000
DTSTAMP:20260421T151211
CREATED:20251117T062736Z
LAST-MODIFIED:20251117T062736Z
UID:762-1763805600-1763812800@ogv-gaertringen.de
SUMMARY:Pflanzaktion Jubiläumsbaum
DESCRIPTION:Alle Mitglieder des OGV Gärtringen sowie\ndie Gärtringer Bevölkerung sind eingeladen\nzur Pflanzung des Jubiläumsbaums\n„100 Jahre OGV Gärtringen“ \nAm Samstag\, 22. November 2025\nab 10:00 Uhr neben der Friedenslinde\nam Aidlinger Weg
URL:https://ogv-gaertringen.de/veranstaltungen/pflanzaktion-jubilaeumsbaum/
END:VEVENT
BEGIN:VEVENT
DTSTART;TZID=UTC:20250920T110000
DTEND;TZID=UTC:20250920T160000
DTSTAMP:20260421T151211
CREATED:20250813T031111Z
LAST-MODIFIED:20250813T031637Z
UID:745-1758366000-1758384000@ogv-gaertringen.de
SUMMARY:Sommerfest
DESCRIPTION:Der OGV Gärtringen und der Waldkindergarten Gärtringen laden ein zum gemeinsamen Sommerfest „5 Jahre Waldkindergarten und 5 Jahre Wildobstwiese“ \nSamstag\, 20. September 2025 ab 11:00 Uhr auf der Wildobstwiese und im Waldkindergarten Gärtringen\, Rößeweg 100 \nErleben Sie einen abwechslungsreichen Nachmittag für Kinder und Erwachsene. Fürs leibliche Wohl wird bestens gesorgt. \n  \nProgramm: \n11:00 Uhr verschiedene Attraktionen für Kinder \nab 12:00 Uhr Mittagessen \n11:00 Uhr und 15:00 Uhr Einblicke in den Waldkindergarten \n13:00 Uhr und 14:00 Uhr Info Wald (Förster) \n13:30 Uhr und 14:30 Uhr Rundgang Wildobst \nab 14:30 Uhr Kaffee und Kuchen \n  \nZum Aufbau ab 08:00 und während dem Fest sind Helfer immer willkommen\, gerne auch für eine kurze Zeit. Ebenso Kuchenspenden fürs Buffet. \nBitte melden bei  Wolfgang Reznicek (Tel: 07034/2772708 oder mail@ogv-gaertringen.de ) oder Waldkindergarten Tel: 07034/9232280
URL:https://ogv-gaertringen.de/veranstaltungen/sommerfest/
LOCATION:48.641016\, 8.868430\, Rößeweg 100\, Gärtringen\, 71116\, Germany
END:VEVENT
BEGIN:VEVENT
DTSTART;VALUE=DATE:20250912
DTEND;VALUE=DATE:20250913
DTSTAMP:20260421T151211
CREATED:20250813T031936Z
LAST-MODIFIED:20250813T033231Z
UID:754-1757635200-1757721599@ogv-gaertringen.de
SUMMARY:Studienfahrt an den Bodensee
DESCRIPTION:STUDIENFAHRT AN DEN BODENSEE\n\nLiebe Mitglieder\,Liebe Garteninteressierte\,kommt mit uns auf eine abwechslungsreiche Studienfahrt an den Bodensee – mit regionalen Spezialitäten\, idyllischer Landschaft und spannenden Einblicken in die Welt der Landwirtschaft und Technik. \nUnsere Programm-HighlightsZünftiges VesperWir starten genussvoll: Bei einem zünftigen Vesper am Obsthof Pfleghaar stärken wir uns für den Tag – mit regionalen Leckereien und guter Gesellschaft \nFahrt mit dem BeerenzügleIm Anschluss geht’s gemütlich mit dem Beerenzügle durch die Obst- und Gemüseanlagen. Dabei erfahren wir Wissenswertes über den Anbau und die Vielfalt derBodenseeregion \nDanach habt ihr die Wahl:Promenadenbesuch: Flaniert entspannt am Ufer des Bodensees\, genießt das Panorama und lasst die Seele etwas baumelnTraktormuseum: Für alle Technikfans gibt’s historische Landmaschinen zum Staunen und Entdecken \nGemeinsames SchlemmenZum Abschluss lassen wir den Tag bei einem gemütlichen Abendessen ausklingen – ein kulinarischer Gruß zum Abschied \n\n\nABFAHRTGrafenau 7:45 Uhr an der WiesengrundhalleGärtringen 8 Uhr am Rathaus \nKOSTEN60 Euro für Busfahrt\, Vesper und Beerenzügle(ohne Museumsbesuch)15€ Rabatt für Mitglieder des OGV Gärtringen \nANMELDUNGOGV Gärtringenmail@ogv-gaertringen.deWolfgang Reznicek Vicki-Baum- Weg 7771116 GärtringenOGWV Grafenauinfo@ogwv-grafenau.deIngo Fechter Sonnenbergstr. 5771120 Grafenau \nEinladung
URL:https://ogv-gaertringen.de/veranstaltungen/studienfahrt-an-den-bodensee/
END:VEVENT
BEGIN:VEVENT
DTSTART;TZID=UTC:20250607T090000
DTEND;TZID=UTC:20250607T120000
DTSTAMP:20260421T151211
CREATED:20241210T073403Z
LAST-MODIFIED:20241210T073403Z
UID:690-1749286800-1749297600@ogv-gaertringen.de
SUMMARY:Baumscheiben ausmähen Wildobstwiese (W. Reznicek + Helfer)
DESCRIPTION:
URL:https://ogv-gaertringen.de/veranstaltungen/baumscheiben-ausmaehen-wildobstwiese-w-reznicek-helfer/
END:VEVENT
BEGIN:VEVENT
DTSTART;TZID=UTC:20250601T100000
DTEND;TZID=UTC:20250601T100000
DTSTAMP:20260421T151211
CREATED:20250504T043125Z
LAST-MODIFIED:20250504T043216Z
UID:726-1748772000-1748772000@ogv-gaertringen.de
SUMMARY:Mähen mit der Sense
DESCRIPTION:Mähen mit der Sense\n… ein Hexenwerk? \nDas Mähen mit der Sense hat viele Vorteile\, es will aber gelernt sein. Der OGV bietet einen Sensenkurs an\, bei dem auch die Praxis und das Dengeln der Sense nicht zu kurz kommen. Am Sonntag\, 1. Juni um 10:00 Uhr auf der Wildobstwiese beim Waldkindergarten Gärtringen. Wenn vorhanden\, eigene Sensen mitbringen\, es können aber auch Sensen ausgeliehen werden. \nDie Teilnahmegebühr beträgt 40€ für Nichtmitglieder und 35€ für Mitglieder des OGV Gärtringen. Es gibt ein Mindestalter von 16 Jahren. \nAnmeldung bitte bis 11.Mai unter:\nmail@ogv-gaertringen.de\nbzw. bei W. Reznicek 07034-2772708
URL:https://ogv-gaertringen.de/veranstaltungen/maehen-mit-der-sense/
LOCATION:Wildobstwiese\, Rößeweg 100\, Gärtringen\, 71116\, Deutschland
END:VEVENT
BEGIN:VEVENT
DTSTART;TZID=UTC:20250412T090000
DTEND;TZID=UTC:20250412T120000
DTSTAMP:20260421T151211
CREATED:20241210T073253Z
LAST-MODIFIED:20241210T073253Z
UID:688-1744448400-1744459200@ogv-gaertringen.de
SUMMARY:Arbeitseinsatz Wildobstwiese (Fachwarte + Helfer)
DESCRIPTION:
URL:https://ogv-gaertringen.de/veranstaltungen/arbeitseinsatz-wildobstwiese-fachwarte-helfer/
END:VEVENT
BEGIN:VEVENT
DTSTART;VALUE=DATE:20250402
DTEND;VALUE=DATE:20250403
DTSTAMP:20260421T151211
CREATED:20241209T063822Z
LAST-MODIFIED:20241209T063822Z
UID:678-1743552000-1743638399@ogv-gaertringen.de
SUMMARY:Kreis-Mostprämierung beim OGV Kuppingen
DESCRIPTION:
URL:https://ogv-gaertringen.de/veranstaltungen/kreis-mostpraemierung-beim-ogv-kuppingen/
END:VEVENT
BEGIN:VEVENT
DTSTART;TZID=UTC:20250329T093000
DTEND;TZID=UTC:20250329T160000
DTSTAMP:20260421T151211
CREATED:20241209T063754Z
LAST-MODIFIED:20250317T160558Z
UID:676-1743240600-1743264000@ogv-gaertringen.de
SUMMARY:Schnittkurs Hausgarten Theorie und Praxis
DESCRIPTION:Sie sind nicht zufrieden mit Ihrem Garten;\ndie Zierpflanzen blühen nicht wie gewünscht;\nDie Beeren bringen keinen Ertrag ? \nDer OGV bietet allen Hobbygärtnern und -gärtnerinnen die Möglichkeit\, ihre Kenntnisse bei Obst\, Ziersträuchern und Stauden zu vertiefen. \n  \nAm  Samstag\, 29. März um 09:30 Uhr \n  \nbeginnen wir mit einem Theorieteil im Saal des Samariterstifts Gärtringen. Nachmittags folgt der praktische Teil im Garten. Bitte Astscheren mitbringen.
URL:https://ogv-gaertringen.de/veranstaltungen/schnittkurs-hausgarten-theorie-und-praxis-2/
LOCATION:Samariterstift Gärtringen\, Kirchstraße 17\, Gärtringen\, 71116\, Deutschland
END:VEVENT
BEGIN:VEVENT
DTSTART;VALUE=DATE:20250314
DTEND;VALUE=DATE:20250315
DTSTAMP:20260421T151211
CREATED:20241209T064028Z
LAST-MODIFIED:20241209T064028Z
UID:682-1741910400-1741996799@ogv-gaertringen.de
SUMMARY:Termin Rückmeldung für Schnittprämie (für Teilnehmer)
DESCRIPTION:
URL:https://ogv-gaertringen.de/veranstaltungen/termin-rueckmeldung-fuer-schnittpraemie-fuer-teilnehmer/
END:VEVENT
BEGIN:VEVENT
DTSTART;TZID=UTC:20250308T090000
DTEND;TZID=UTC:20250308T120000
DTSTAMP:20260421T151211
CREATED:20241210T073123Z
LAST-MODIFIED:20241210T073123Z
UID:686-1741424400-1741435200@ogv-gaertringen.de
SUMMARY:Baumschnitt+Reparaturen Hetzerwiese (Fachwarte + Helfer)
DESCRIPTION:
URL:https://ogv-gaertringen.de/veranstaltungen/baumschnittreparaturen-hetzerwiese-fachwarte-helfer/
END:VEVENT
BEGIN:VEVENT
DTSTART;TZID=UTC:20250222T090000
DTEND;TZID=UTC:20250222T120000
DTSTAMP:20260421T151211
CREATED:20241209T063527Z
LAST-MODIFIED:20250213T062342Z
UID:671-1740214800-1740225600@ogv-gaertringen.de
SUMMARY:Schnittkurs für Obstbäume
DESCRIPTION:  \nSchnittkurs für Obstbäume\nWarum soll man einen Baum überhaupt schneiden\, wann und wie ist es am besten? \nDas erfahren Sie bei unserem Obstbaum-Schnittkurs mit Theorie und Praxis zum selbst schneiden.\nWir treffen uns am 22. Februar 2025 um 9:00 bis ca. 13:00 bei den Einschulungsbäumen zwischen Freibad Gärtringen und Aidlinger Weg. (Geokoordinaten 48.650929\, 8.894773) \nObst- und\nGartenbauverein\nGärtringen e.V.\nGegründet 3. März 1924 \nAlle Interessierten sind herzlicheingeladen.\nEigenes Werkzeug darf mitgebracht werden.\nEine Anmeldung ist nicht erforderlich.
URL:https://ogv-gaertringen.de/veranstaltungen/schnittkurs-fuer-obstbaeume/
END:VEVENT
BEGIN:VEVENT
DTSTART;TZID=UTC:20250215T133000
DTEND;TZID=UTC:20250215T170000
DTSTAMP:20260421T151211
CREATED:20241210T072910Z
LAST-MODIFIED:20241210T072910Z
UID:684-1739626200-1739638800@ogv-gaertringen.de
SUMMARY:Kreis Obst-Garten- und Weinbautag
DESCRIPTION:
URL:https://ogv-gaertringen.de/veranstaltungen/kreis-obst-garten-und-weinbautag-3/
LOCATION:Herrenberg
END:VEVENT
BEGIN:VEVENT
DTSTART;VALUE=DATE:20250212
DTEND;VALUE=DATE:20250213
DTSTAMP:20260421T151211
CREATED:20241209T063402Z
LAST-MODIFIED:20241210T072748Z
UID:667-1739318400-1739404799@ogv-gaertringen.de
SUMMARY:Kreis-Saftprämierung beim OGV Herrenberg
DESCRIPTION:
URL:https://ogv-gaertringen.de/veranstaltungen/kreis-saftpraemierung-beim-ogv-herrenberg/
END:VEVENT
BEGIN:VEVENT
DTSTART;TZID=UTC:20240718T193000
DTEND;TZID=UTC:20240718T220000
DTSTAMP:20260421T151211
CREATED:20240614T093854Z
LAST-MODIFIED:20240614T093854Z
UID:648-1721331000-1721340000@ogv-gaertringen.de
SUMMARY:Stammtisch
DESCRIPTION:Thema des Abends:\n100 Jahre OGV-Geschichte \nHierzu laden wir alle Interessierten\nherzlich ein. Wir haben einiges aus der Geschichte\nausgegraben. Lasst euch überraschen!\nNatürlich ist auch genug Zeit um einfach ein\ngemütliches Viertele zu trinken. Es wird auch ein\nkleines Vesper geben \nWer selbst noch Bilder\, Unterlagen und\nGegenstände aus dem Vereinsleben hat\, darf diese\ngerne mitbringen.
URL:https://ogv-gaertringen.de/veranstaltungen/stammtisch/
LOCATION:Villa Schwalbenhof\, Gärtringen\, Villa Schwalbenhof\, Gärtringen\, 71116\, Deutschland
END:VEVENT
BEGIN:VEVENT
DTSTART;VALUE=DATE:20240714
DTEND;VALUE=DATE:20240715
DTSTAMP:20260421T151211
CREATED:20240614T094126Z
LAST-MODIFIED:20240614T094126Z
UID:652-1720915200-1721001599@ogv-gaertringen.de
SUMMARY:Sommerfest OGV Plieningen
DESCRIPTION:wir wollen dieses Jahr am\nSonntag\, 14. Juli 2024\neinen anderen OGV besuchen. \nDie Reise geht zum Sommerfest des OGV Plieningen\nam Sonntag\, 14.Juli 2024\nDort gibt es Essen\, einen Bierwagen und live-Musik\nsowie eine Schlepperausstellung \nAlle Interessierten sind herzlich eingeladen \nWir fahren mit der S-Bahn und Stadtbahn. Abfahrt ist um 10:52 mit\nder S1 am Bahnhof Gärtringen. Bitte das Deutschlandticket nicht\nvergessen oder rechtzeitig einen Fahrschein für 3 Zonen lösen \nIch bitte um eine Anmeldung bis zum 5. Juli bei W.Reznicek:\n07034 2772708 oder mail@ogv-gaertringen.de
URL:https://ogv-gaertringen.de/veranstaltungen/sommerfest-ogv-plieningen/
END:VEVENT
BEGIN:VEVENT
DTSTART;VALUE=DATE:20240428
DTEND;VALUE=DATE:20240429
DTSTAMP:20260421T151211
CREATED:20240112T122952Z
LAST-MODIFIED:20240112T122952Z
UID:409-1714262400-1714348799@ogv-gaertringen.de
SUMMARY:Landesgartenschau
DESCRIPTION:
URL:https://ogv-gaertringen.de/veranstaltungen/landesgartenschau/
LOCATION:Wangen\, Wangen\, 77239\, Deutschland
END:VEVENT
BEGIN:VEVENT
DTSTART;TZID=UTC:20240427T090000
DTEND;TZID=UTC:20240427T120000
DTSTAMP:20260421T151211
CREATED:20240112T123031Z
LAST-MODIFIED:20240112T123105Z
UID:412-1714208400-1714219200@ogv-gaertringen.de
SUMMARY:Arbeitseinsatz Wildobstwiese
DESCRIPTION:
URL:https://ogv-gaertringen.de/veranstaltungen/arbeitseinsatz-wildobstwiese/
LOCATION:Wildobstwiese\, Rößeweg 100\, Gärtringen\, 71116\, Deutschland
END:VEVENT
BEGIN:VEVENT
DTSTART;VALUE=DATE:20240410
DTEND;VALUE=DATE:20240411
DTSTAMP:20260421T151211
CREATED:20240112T122703Z
LAST-MODIFIED:20240112T122703Z
UID:406-1712707200-1712793599@ogv-gaertringen.de
SUMMARY:Kreis-Mostprämierung
DESCRIPTION:
URL:https://ogv-gaertringen.de/veranstaltungen/kreis-mostpraemierung/
LOCATION:OGV Haslach
END:VEVENT
BEGIN:VEVENT
DTSTART;TZID=UTC:20240406T090000
DTEND;TZID=UTC:20240406T120000
DTSTAMP:20260421T151211
CREATED:20240112T122407Z
LAST-MODIFIED:20240112T122407Z
UID:404-1712394000-1712404800@ogv-gaertringen.de
SUMMARY:Baumschnitt + Reparaturen Hetzerwiese
DESCRIPTION:
URL:https://ogv-gaertringen.de/veranstaltungen/baumschnitt-reparaturen-hetzerwiese/
END:VEVENT
BEGIN:VEVENT
DTSTART;VALUE=DATE:20240331
DTEND;VALUE=DATE:20240401
DTSTAMP:20260421T151211
CREATED:20240112T122124Z
LAST-MODIFIED:20240112T122124Z
UID:399-1711843200-1711929599@ogv-gaertringen.de
SUMMARY:Obst- und Gartentag
DESCRIPTION:
URL:https://ogv-gaertringen.de/veranstaltungen/obst-und-gartentag/
END:VEVENT
BEGIN:VEVENT
DTSTART;TZID=UTC:20240316T093000
DTEND;TZID=UTC:20240316T120000
DTSTAMP:20260421T151211
CREATED:20240112T122239Z
LAST-MODIFIED:20240117T142159Z
UID:401-1710581400-1710590400@ogv-gaertringen.de
SUMMARY:Schnittkurs Hausgarten Theorie und Praxis
DESCRIPTION:Blüten und Früchte jedes Jahr…\n \nSie sind nicht zufrieden mit Ihrem Garten;\ndie Zierpflanzen blühen nicht wie gewünscht;\nDie Beeren bringen keinen Ertrag ? \nDer OGV bietet allen Hobbygärtnern und -gärtnerinnen die Möglichkeit\, ihre Kenntnisse bei Obst\, Ziersträuchern und Stauden zu vertiefen.\nAm  Samstag\, 16. März \nbeginnen wir  um 09:30 Uhr \n  \nmit einem kurzen Theorieteil im Saal des Samariterstifts Gärtringen. Nachmittags folgt der praktische Teil im Garten. Bitte Astscheren mitbringen. \nAlle Interessierten sind herzlich eingeladen.\nEine Anmeldung ist nicht erforderlich.
URL:https://ogv-gaertringen.de/veranstaltungen/schnittkurs-hausgarten-theorie-und-praxis/
LOCATION:Samariterstift Gärtringen\, Kirchstraße 17\, Gärtringen\, 71116\, Deutschland
END:VEVENT
BEGIN:VEVENT
DTSTART;VALUE=DATE:20240314
DTEND;VALUE=DATE:20240315
DTSTAMP:20260421T151211
CREATED:20240112T122039Z
LAST-MODIFIED:20240112T122039Z
UID:397-1710374400-1710460799@ogv-gaertringen.de
SUMMARY:Rückmeldung für Schnittprämie (für Teilnehmer)
DESCRIPTION:
URL:https://ogv-gaertringen.de/veranstaltungen/rueckmeldung-fuer-schnittpraemie-fuer-teilnehmer/
END:VEVENT
BEGIN:VEVENT
DTSTART;VALUE=DATE:20240303
DTEND;VALUE=DATE:20240304
DTSTAMP:20260421T151211
CREATED:20240112T102614Z
LAST-MODIFIED:20240112T121754Z
UID:393-1709424000-1709510399@ogv-gaertringen.de
SUMMARY:100-jähriges Gründungsjubiläum OGV Gärtringen
DESCRIPTION:
URL:https://ogv-gaertringen.de/veranstaltungen/100-jaehriges-gruendungsjubilaeum-ogv-gaertringen/
END:VEVENT
BEGIN:VEVENT
DTSTART;TZID=UTC:20240302T133000
DTEND;TZID=UTC:20240302T133000
DTSTAMP:20260421T151211
CREATED:20240112T102411Z
LAST-MODIFIED:20240112T102429Z
UID:391-1709386200-1709386200@ogv-gaertringen.de
SUMMARY:Kreis Obst-Garten- und Weinbautag
DESCRIPTION:
URL:https://ogv-gaertringen.de/veranstaltungen/kreis-obst-garten-und-weinbautag/
END:VEVENT
BEGIN:VEVENT
DTSTART;VALUE=DATE:20240301
DTEND;VALUE=DATE:20240401
DTSTAMP:20260421T151211
CREATED:20240112T121936Z
LAST-MODIFIED:20240112T121936Z
UID:395-1709251200-1711929599@ogv-gaertringen.de
SUMMARY:17. Landesweite Streuobstpflegetage
DESCRIPTION:
URL:https://ogv-gaertringen.de/veranstaltungen/17-landesweite-streuobstpflegetage/
END:VEVENT
BEGIN:VEVENT
DTSTART;VALUE=DATE:20240228
DTEND;VALUE=DATE:20240229
DTSTAMP:20260421T151211
CREATED:20240112T090815Z
LAST-MODIFIED:20240112T093147Z
UID:369-1709078400-1709164799@ogv-gaertringen.de
SUMMARY:Kreis-Saftprämierung
DESCRIPTION:
URL:https://ogv-gaertringen.de/veranstaltungen/kreis-saftpraemierung/
LOCATION:OGV Weil der Stadt
END:VEVENT
BEGIN:VEVENT
DTSTART;TZID=UTC:20240217T090000
DTEND;TZID=UTC:20240217T130000
DTSTAMP:20260421T151211
CREATED:20240112T100807Z
LAST-MODIFIED:20240117T142044Z
UID:385-1708160400-1708174800@ogv-gaertringen.de
SUMMARY:Schnittkurs für Obstbäume
DESCRIPTION:Wie soll man den Baum schneiden\,\nwann und warum überhaupt? \nDas erfahren Sie bei unserem Obstbaum-Schnittkurs mit Theorie und Praxis zum selbst schneiden. \nWir treffen uns am\n17. Februar 2023 um 9:00 bis ca. 13:00\nbei den Einschulungsbäumen\nzwischen Freibad Gärtringen und Aidlinger Weg.\n(Geokoordinaten 48.650929\, 8.894773) \nAlle Interessierten sind herzlich eingeladen.\nEigenes Werkzeug darf mitgebracht werden.\nEine Anmeldung ist nicht erforderlich.
URL:https://ogv-gaertringen.de/veranstaltungen/schnittkurs-fuer-obstbaeume-einschulungsbaeume/
LOCATION:Einschulungsbäume\, 48.650929\, 8.894773
END:VEVENT
END:VCALENDAR