BEGIN:VCALENDAR
VERSION:2.0
PRODID:-//Obst- und Gartenbauverein G&auml;rtringen e.V. - ECPv6.15.20//NONSGML v1.0//EN
CALSCALE:GREGORIAN
METHOD:PUBLISH
X-ORIGINAL-URL:https://ogv-gaertringen.de
X-WR-CALDESC:Veranstaltungen für Obst- und Gartenbauverein G&auml;rtringen e.V.
REFRESH-INTERVAL;VALUE=DURATION:PT1H
X-Robots-Tag:noindex
X-PUBLISHED-TTL:PT1H
BEGIN:VTIMEZONE
TZID:UTC
BEGIN:STANDARD
TZOFFSETFROM:+0000
TZOFFSETTO:+0000
TZNAME:UTC
DTSTART:20240101T000000
END:STANDARD
END:VTIMEZONE
BEGIN:VEVENT
DTSTART;VALUE=DATE:20250912
DTEND;VALUE=DATE:20250913
DTSTAMP:20260421T233339
CREATED:20250813T031936Z
LAST-MODIFIED:20250813T033231Z
UID:754-1757635200-1757721599@ogv-gaertringen.de
SUMMARY:Studienfahrt an den Bodensee
DESCRIPTION:STUDIENFAHRT AN DEN BODENSEE\n\nLiebe Mitglieder\,Liebe Garteninteressierte\,kommt mit uns auf eine abwechslungsreiche Studienfahrt an den Bodensee – mit regionalen Spezialitäten\, idyllischer Landschaft und spannenden Einblicken in die Welt der Landwirtschaft und Technik. \nUnsere Programm-HighlightsZünftiges VesperWir starten genussvoll: Bei einem zünftigen Vesper am Obsthof Pfleghaar stärken wir uns für den Tag – mit regionalen Leckereien und guter Gesellschaft \nFahrt mit dem BeerenzügleIm Anschluss geht’s gemütlich mit dem Beerenzügle durch die Obst- und Gemüseanlagen. Dabei erfahren wir Wissenswertes über den Anbau und die Vielfalt derBodenseeregion \nDanach habt ihr die Wahl:Promenadenbesuch: Flaniert entspannt am Ufer des Bodensees\, genießt das Panorama und lasst die Seele etwas baumelnTraktormuseum: Für alle Technikfans gibt’s historische Landmaschinen zum Staunen und Entdecken \nGemeinsames SchlemmenZum Abschluss lassen wir den Tag bei einem gemütlichen Abendessen ausklingen – ein kulinarischer Gruß zum Abschied \n\n\nABFAHRTGrafenau 7:45 Uhr an der WiesengrundhalleGärtringen 8 Uhr am Rathaus \nKOSTEN60 Euro für Busfahrt\, Vesper und Beerenzügle(ohne Museumsbesuch)15€ Rabatt für Mitglieder des OGV Gärtringen \nANMELDUNGOGV Gärtringenmail@ogv-gaertringen.deWolfgang Reznicek Vicki-Baum- Weg 7771116 GärtringenOGWV Grafenauinfo@ogwv-grafenau.deIngo Fechter Sonnenbergstr. 5771120 Grafenau \nEinladung
URL:https://ogv-gaertringen.de/veranstaltungen/studienfahrt-an-den-bodensee/
END:VEVENT
BEGIN:VEVENT
DTSTART;TZID=UTC:20250920T110000
DTEND;TZID=UTC:20250920T160000
DTSTAMP:20260421T233339
CREATED:20250813T031111Z
LAST-MODIFIED:20250813T031637Z
UID:745-1758366000-1758384000@ogv-gaertringen.de
SUMMARY:Sommerfest
DESCRIPTION:Der OGV Gärtringen und der Waldkindergarten Gärtringen laden ein zum gemeinsamen Sommerfest „5 Jahre Waldkindergarten und 5 Jahre Wildobstwiese“ \nSamstag\, 20. September 2025 ab 11:00 Uhr auf der Wildobstwiese und im Waldkindergarten Gärtringen\, Rößeweg 100 \nErleben Sie einen abwechslungsreichen Nachmittag für Kinder und Erwachsene. Fürs leibliche Wohl wird bestens gesorgt. \n  \nProgramm: \n11:00 Uhr verschiedene Attraktionen für Kinder \nab 12:00 Uhr Mittagessen \n11:00 Uhr und 15:00 Uhr Einblicke in den Waldkindergarten \n13:00 Uhr und 14:00 Uhr Info Wald (Förster) \n13:30 Uhr und 14:30 Uhr Rundgang Wildobst \nab 14:30 Uhr Kaffee und Kuchen \n  \nZum Aufbau ab 08:00 und während dem Fest sind Helfer immer willkommen\, gerne auch für eine kurze Zeit. Ebenso Kuchenspenden fürs Buffet. \nBitte melden bei  Wolfgang Reznicek (Tel: 07034/2772708 oder mail@ogv-gaertringen.de ) oder Waldkindergarten Tel: 07034/9232280
URL:https://ogv-gaertringen.de/veranstaltungen/sommerfest/
LOCATION:48.641016\, 8.868430\, Rößeweg 100\, Gärtringen\, 71116\, Germany
END:VEVENT
END:VCALENDAR